BEGIN:VCALENDAR
VERSION:2.0
PRODID:-//http://villageoflakeorion.org//NONSGML kigkonsult.se iCalcreator 
 2.29.29//
CALSCALE:GREGORIAN
METHOD:PUBLISH
UID:c0e25653-f0dd-4f0f-9ec5-0f8e112f42a8
X-WR-CALNAME:JCal Pro Calendar
X-WR-CALDESC:Your online events calendar
X-WR-TIMEZONE:UTC
BEGIN:VTIMEZONE
TZID:UTC
END:VTIMEZONE
BEGIN:VEVENT
UID:20191223T090000UTC-4905vPA6SW@http://www.lakeorion.org/
DTSTAMP:20260419T115957Z
CATEGORIES:Lake Orion Village News
DESCRIPTION:<p>The Village Offices will be closed Monday\, December 23 thro
 ugh Wednesday\, December 25.&nbsp\;</p>
DTSTART:20191223T090000Z
DTEND:20191225T163000Z
SUMMARY:Village Office Holiday Closure
URL:http://villageoflakeorion.org/index.php/about/calendar/58-lake-orion-vi
 llage-news/63-village-office-holiday-closure
X-ALT-DESC;FMTTYPE=TEXT/HTML:<p>The Village Offices will be closed Monday\,
  December 23 through Wednesday\, December 25.&nbsp\;</p>
END:VEVENT
END:VCALENDAR
