BEGIN:VCALENDAR
VERSION:2.0
PRODID:-//http://villageoflakeorion.org//NONSGML kigkonsult.se iCalcreator 
 2.29.29//
CALSCALE:GREGORIAN
METHOD:PUBLISH
UID:ca6ec425-75ce-4506-bdcb-67fcfdbf18e7
X-WR-CALNAME:JCal Pro Calendar
X-WR-CALDESC:Your online events calendar
X-WR-TIMEZONE:UTC
BEGIN:VTIMEZONE
TZID:UTC
END:VTIMEZONE
BEGIN:VEVENT
UID:20200608T193000UTC-97258Jk1do@http://www.lakeorion.org/
DTSTAMP:20260419T115959Z
CATEGORIES:Village Board Meetings
DTSTART:20200608T193000Z
DTEND:20200608T210000Z
SUMMARY:Village Council Meeting
URL:http://villageoflakeorion.org/index.php/about/calendar/47-village-board
 -meetings/78-village-council-meeting
END:VEVENT
END:VCALENDAR
